BEGIN:VCALENDAR
VERSION:2.0
PRODID:-//eventon.com NONSGML v1.0//EN
CALSCALE:GREGORIAN
METHOD:PUBLISH
BEGIN:VEVENT
UID:69ea2c0761057
DTSTAMP:20260423T142615Z
DTSTART:20250905T020000Z
DTEND:20250905T040000Z
LOCATION:Centro Cultural Miguel Ángel Asturias C. 24 3-81\,  Cdad. de Guatemala 01001
SUMMARY:FIDEL FUNES SINFÓNICO
DESCRIPTION:MÚSICA ORQUESTA SINFÓNICA NACIONAL 20:00 HORAS | GRAN SALA 
 EFRAÍN RECINOS” 
URL:https://festivaldejunio.mcd.gob.gt/events/fidel-funes-sinfonico/
END:VEVENT
END:VCALENDAR