BEGIN:VCALENDAR
VERSION:2.0
PRODID:-//eventon.com NONSGML v1.0//EN
CALSCALE:GREGORIAN
METHOD:PUBLISH
BEGIN:VEVENT
UID:69e63bb50aed6
DTSTAMP:20260420T144405Z
DTSTART:20250930T200000Z
DTEND:20251001T010000Z
LOCATION:Centro Cultural Miguel Ángel Asturias C. 24 3-81\,  Cdad. de Guatemala 01001
SUMMARY:“EN SANJUANARTE” COSTUMBRES Y TRADICIONES DE SAN JUAN SACATEPÉQUEZ
DESCRIPTION:EXPOSICIÓN DE ARTE DE 14: A 19:00 HORAS | PLAZA PRINCIPAL ENTR
 ADA LIBRE
URL:https://festivaldejunio.mcd.gob.gt/events/en-sanjuanarte-costumbres-y-tradiciones-de-san-juan-sacatepequez/
END:VEVENT
END:VCALENDAR